BEGIN:VCALENDAR
VERSION:2.0
PRODID:-//Förderverein Zukunftswerkstatt Paul-Gustavus-Haus Altenburg e.V. - ECPv6.15.20//NONSGML v1.0//EN
CALSCALE:GREGORIAN
METHOD:PUBLISH
X-WR-CALNAME:Förderverein Zukunftswerkstatt Paul-Gustavus-Haus Altenburg e.V.
X-ORIGINAL-URL:https://gustavushaus2026.v42.isp-media.de
X-WR-CALDESC:Veranstaltungen für Förderverein Zukunftswerkstatt Paul-Gustavus-Haus Altenburg e.V.
REFRESH-INTERVAL;VALUE=DURATION:PT1H
X-Robots-Tag:noindex
X-PUBLISHED-TTL:PT1H
BEGIN:VTIMEZONE
TZID:Europe/Berlin
BEGIN:DAYLIGHT
TZOFFSETFROM:+0100
TZOFFSETTO:+0200
TZNAME:CEST
DTSTART:20250330T010000
END:DAYLIGHT
BEGIN:STANDARD
TZOFFSETFROM:+0200
TZOFFSETTO:+0100
TZNAME:CET
DTSTART:20251026T010000
END:STANDARD
BEGIN:DAYLIGHT
TZOFFSETFROM:+0100
TZOFFSETTO:+0200
TZNAME:CEST
DTSTART:20260329T010000
END:DAYLIGHT
BEGIN:STANDARD
TZOFFSETFROM:+0200
TZOFFSETTO:+0100
TZNAME:CET
DTSTART:20261025T010000
END:STANDARD
BEGIN:DAYLIGHT
TZOFFSETFROM:+0100
TZOFFSETTO:+0200
TZNAME:CEST
DTSTART:20270328T010000
END:DAYLIGHT
BEGIN:STANDARD
TZOFFSETFROM:+0200
TZOFFSETTO:+0100
TZNAME:CET
DTSTART:20271031T010000
END:STANDARD
END:VTIMEZONE
BEGIN:VEVENT
DTSTART;TZID=Europe/Berlin:20260425T200000
DTEND;TZID=Europe/Berlin:20260425T230000
DTSTAMP:20260422T193345
CREATED:20260407T160442Z
LAST-MODIFIED:20260415T160336Z
UID:250-1777147200-1777158000@gustavushaus2026.v42.isp-media.de
SUMMARY:DRAN Label Tour Konzert mit Asia Imbiss
DESCRIPTION:„Mit ihren eingängigen Melodien und mitreißenden Texten schaffen es ASIA IMBISS\, uns auf eine musikalische Reise zu entführen\, die von einer warmen und heimeligen Wohlfühlatmosphäre geprägt ist. Es ist\, als ob man in seinem Lieblingsimbiss sitzen würde\, umgeben von vertrauten Gerüchen und freundlichen Gesichtern.“ (bla bla)\nDas Duo Asia Imbiss machen den charmantester Indie Pop\, den man sich vorstellen kann. Wunderbar unaufgeregt aufregend! (hört selbst!) \nhttps://asiaimbiss.bandcamp.com/
URL:https://gustavushaus2026.v42.isp-media.de/event/event-2/
LOCATION:Café im PGH\, Wallstraße 29\, Altenburg\, 04600\, Germany
ATTACH;FMTTYPE=image/jpeg:https://gustavushaus2026.v42.isp-media.de/wp-content/uploads/2026/04/jRW5xoeuTW47caPYpcoG_asia-scaled.jpg
END:VEVENT
BEGIN:VEVENT
DTSTART;TZID=Europe/Berlin:20260516T200000
DTEND;TZID=Europe/Berlin:20260516T230000
DTSTAMP:20260422T193345
CREATED:20260407T160500Z
LAST-MODIFIED:20260422T093310Z
UID:249-1778961600-1778972400@gustavushaus2026.v42.isp-media.de
SUMMARY:Digital Factor & Friends Benefizkonzert für die Stiftung für benachteiligte Kinder
DESCRIPTION:Wenn sich um 20:00 Uhr die Türen der altehrwürdigen Konzerthalle des Paul-Gustavus-Hauses öffnen\, dürfen sich die Besucher auf ein genreübergreifendes Spektakel freuen. Digital Factor wird nicht allein performen\, sondern hat sich musikalische Weggefährten und prominente Unterstützung eingeladen\, um gemeinsam für die gute Sache zu rocken. \nMit dabei ist unter anderem Manuel Schmid\, der charismatische Sänger der legendären Band Stern Meissen\, der dem Abend mit seiner markanten Stimme eine besondere Note verleihen wird. Für geballte Soul-Power sorgt Rebecca Klukas von Colors of Soul\, während die lokale Altenburger Formation Beyond ein stimmungsvolles Heimspiel feiern wird. \nAuch an den Instrumenten und in der Bühnenpräsenz wird nicht gespart: Der talentierte Schlagzeuger Kalle Vogel (bekannt von Logic + Olivia) wird den Rhythmus vorgeben. Ergänzt wird das facettenreiche Line-up durch den Musiker Alex Essl sowie den vielseitigen Schauspieler Manuel Struffolino\, dessen Auftritt dem Konzert eine spannende\, performative Ebene hinzufügen dürfte. \nTicketvorverkauf hier! \n 
URL:https://gustavushaus2026.v42.isp-media.de/event/event-3/
LOCATION:Veranstaltungshalle PGH\, Wallstraße 29\, Altenburg\, 04600\, Germany
ATTACH;FMTTYPE=image/jpeg:https://gustavushaus2026.v42.isp-media.de/wp-content/uploads/2026/04/DSC01712.jpg
END:VEVENT
BEGIN:VEVENT
DTSTART;TZID=Europe/Berlin:20260905T200000
DTEND;TZID=Europe/Berlin:20260905T220000
DTSTAMP:20260422T193345
CREATED:20260407T160405Z
LAST-MODIFIED:20260415T160934Z
UID:247-1788638400-1788645600@gustavushaus2026.v42.isp-media.de
SUMMARY:Die NotenDealer – Best-Of 2026
DESCRIPTION:Die Comedy-Pop-Band \nLVZ: „Ein humoristisches und musikalisches Feuerwerk“ \nDiese Jungs wissen was sie tun: In dieser musikalischen Comedy-Show wird durch Kreativität und Spontanität Humor für jede Altersgruppe neu erfunden. Was soll ein Mann heute nicht alles können? Er soll tierlieb\, kommunikativ und humorvoll sein\, sich gut ernähren und Organisationstalent beweisen. Er soll wie ein Fels in der Brandung stehen und sich doch weich wie ein Kuschelkissen anfühlen. Er soll alle Liebesstellungen des Kamasutra-Buches beherrschen\, aber manchmal auch nur schmusen wollen. Diese Männer gibt es nicht? Doch: Die NotenDealer geben lebensbejahende Tipps! Bei einer echten NotenDealer-Show kommt man als Fremde und geht als Freunde. Hier ist für jeden Frauen- (und Herren-) Geschmack etwas dabei. Die einzige Show mit echtem Happy End. \nTicketlink
URL:https://gustavushaus2026.v42.isp-media.de/event/event-1/
LOCATION:Veranstaltungshalle PGH\, Wallstraße 29\, Altenburg\, 04600\, Germany
ATTACH;FMTTYPE=image/jpeg:https://gustavushaus2026.v42.isp-media.de/wp-content/uploads/2026/04/channels4_profile.jpg
END:VEVENT
END:VCALENDAR